BEGIN:VCALENDAR
VERSION:2.0
PRODID:-//CAI Technologies - ECPv6.15.14//NONSGML v1.0//EN
CALSCALE:GREGORIAN
METHOD:PUBLISH
X-WR-CALNAME:CAI Technologies
X-ORIGINAL-URL:https://www.cai-tech.com
X-WR-CALDESC:Events for CAI Technologies
REFRESH-INTERVAL;VALUE=DURATION:PT1H
X-Robots-Tag:noindex
X-PUBLISHED-TTL:PT1H
BEGIN:VTIMEZONE
TZID:UTC
BEGIN:STANDARD
TZOFFSETFROM:+0000
TZOFFSETTO:+0000
TZNAME:UTC
DTSTART:20230101T000000
END:STANDARD
END:VTIMEZONE
BEGIN:VEVENT
DTSTART;TZID=UTC:20241024T080000
DTEND;TZID=UTC:20241024T160000
DTSTAMP:20260423T121410
CREATED:20240524T152617Z
LAST-MODIFIED:20240524T152617Z
UID:2446-1729756800-1729785600@www.cai-tech.com
SUMMARY:2024 NHWWA - NH Drinking Water Expo & Trade Show
DESCRIPTION:JOIN US for this one day event!  Visit our booth at the 2024 NHWWA NH Drinking Water Expo & Trade Show on Thursday\, October 24th\, being held again this year at the Grappone Conference Center\, 70 Constitution Avenue\, Concord\, NH 03301. \nWe’ll be demonstrating AxisGIS\, our browser based GIS platform built using the latest ArcGIS Enterprise technology.  Installed in nearly 500 communities\, AxisGIS provides users the ability to query\, browse\, report\, print and distribute their GIS data and related information simply using a web browser.  As an add-in\, AxisGIS Editor is available to Staff Users who want the ability to perform advanced queries and edit GIS features and tables directly in the online service.  Also ask us about our very successful IGNITE services package designed to assist you with getting the most from your ArcGIS Online subscription.
URL:https://www.cai-tech.com/event/2024-nhwwa_nh-drinking-water-expo-trade-show/
LOCATION:Grappone Conference Center\, 70 Constitution Avenue\, Concord\, NH\, 03301\, United States
CATEGORIES:Convention,Exhibit
ATTACH;FMTTYPE=image/jpeg:https://www.cai-tech.com/wp-content/uploads/2024/05/2024-NHWWA-WEBSITE-IMAGE.jpg
END:VEVENT
END:VCALENDAR