BEGIN:VCALENDAR
VERSION:2.0
PRODID:-//CAI Technologies - ECPv6.15.14//NONSGML v1.0//EN
CALSCALE:GREGORIAN
METHOD:PUBLISH
X-ORIGINAL-URL:https://www.cai-tech.com
X-WR-CALDESC:Events for CAI Technologies
REFRESH-INTERVAL;VALUE=DURATION:PT1H
X-Robots-Tag:noindex
X-PUBLISHED-TTL:PT1H
BEGIN:VTIMEZONE
TZID:UTC
BEGIN:STANDARD
TZOFFSETFROM:+0000
TZOFFSETTO:+0000
TZNAME:UTC
DTSTART:20230101T000000
END:STANDARD
END:VTIMEZONE
BEGIN:VEVENT
DTSTART;TZID=UTC:20240919T073000
DTEND;TZID=UTC:20240919T150000
DTSTAMP:20260423T121232
CREATED:20240208T190631Z
LAST-MODIFIED:20240208T190631Z
UID:2371-1726731000-1726758000@www.cai-tech.com
SUMMARY:2024 GSRWA_Operator Field Day & Exhibit Show
DESCRIPTION:This years’ event is being held at the scenic Pats Peak Ski Area on September 19\, 2024!  Join us for the Granite State Rural Water Association\, (GSRWA) Operator Field Day & Exhibit Show 2024\, located at\,  1398 Route 103\, Newbury\, NH 03255. \nWe are proud to participate as a “Breakfast Sponsor” again this year\, don’t miss it!\nWe’ll be demonstrating AxisGIS\, our browser based GIS platform built using the latest ArcGIS Enterprise technology.  Installed in nearly 500 communities\, AxisGIS provides users the ability to query\, browse\, report\, print and distribute their GIS data and related information simply using a web browser.  As an add-in\, AxisGIS Editor is available to Staff Users who want the ability to perform advanced queries and edit GIS features and tables directly in the online service.  Also ask us about our very successful IGNITE services package designed to assist you with getting the most from your ArcGIS Online subscription.
URL:https://www.cai-tech.com/event/2024-gsrwa_operator-field-day-exhibit-show/
LOCATION:Pats Peak Ski Area\, 686 Flanders Rd.\, Henniker\, NH\, 03242\, United States
CATEGORIES:Conference,Exhibit
ATTACH;FMTTYPE=image/jpeg:https://www.cai-tech.com/wp-content/uploads/2024/02/2024-GSRWA-OPERATOR-FIELD-DAY_WEB-GRAPHIC-1.jpg
END:VEVENT
BEGIN:VEVENT
DTSTART;TZID=UTC:20240926T080000
DTEND;TZID=UTC:20240926T163000
DTSTAMP:20260423T121232
CREATED:20240823T180353Z
LAST-MODIFIED:20240823T193445Z
UID:2504-1727337600-1727368200@www.cai-tech.com
SUMMARY:2024 CAAO FALL SYMPOSIUM
DESCRIPTION:CAI is participating in the 2024 CAAO 30th Annual FALL SYMPOSIUM; September 26\, 2024\, being held at the Courtyard Hartford Cromwell\, 4 Sebethe Drive\, Cromwell\, CT 06416. \nWe are proud to be a participant and donor at this event!\nWe’ll be demonstrating AxisGIS\, our browser based GIS platform built using the latest ArcGIS Enterprise technology.  Installed in nearly 500 communities\, AxisGIS provides users the ability to query\, browse\, report\, print and distribute their GIS data and related information simply using a web browser.  As an add-in\, AxisGIS Editor is available to Staff Users who want the ability to perform advanced queries and edit GIS features and tables directly in the online service.  Also ask us about our very successful IGNITE services package designed to assist you with getting the most from your ArcGIS Online subscription.
URL:https://www.cai-tech.com/event/2024-caao-fall-symposium/
LOCATION:Courtyard Hartford Cromwell\, 4 Sebethe Drive\, Cromwell\, CT\, 06416\, United States
CATEGORIES:Conference,Exhibit
ATTACH;FMTTYPE=image/jpeg:https://www.cai-tech.com/wp-content/uploads/2023/07/2023-CAAO-IMPOSIUM_WEBSITE-IMAGE-1.jpg
END:VEVENT
END:VCALENDAR