BEGIN:VCALENDAR
VERSION:2.0
PRODID:-//CAI Technologies - ECPv6.15.14//NONSGML v1.0//EN
CALSCALE:GREGORIAN
METHOD:PUBLISH
X-WR-CALNAME:CAI Technologies
X-ORIGINAL-URL:https://www.cai-tech.com
X-WR-CALDESC:Events for CAI Technologies
REFRESH-INTERVAL;VALUE=DURATION:PT1H
X-Robots-Tag:noindex
X-PUBLISHED-TTL:PT1H
BEGIN:VTIMEZONE
TZID:UTC
BEGIN:STANDARD
TZOFFSETFROM:+0000
TZOFFSETTO:+0000
TZNAME:UTC
DTSTART:20200101T000000
END:STANDARD
END:VTIMEZONE
BEGIN:VEVENT
DTSTART;VALUE=DATE:20210917
DTEND;VALUE=DATE:20210918
DTSTAMP:20260419T152809
CREATED:20210830T163112Z
LAST-MODIFIED:20210916T142419Z
UID:1667-1631836800-1631923199@www.cai-tech.com
SUMMARY:2021 VIRTUAL VALA ANNUAL CONFERENCE
DESCRIPTION:We are proud to sponsor the 2021 VALA ANNUAL CONFERENCE being held virtually September 17th. We will be giving a short presentation to attendees during the lunch hour where we’ll highlight CAI Services and AxisGIS\, our browser based GIS platform built using the latest ArcGIS Server technology. Installed in over 350 communities\, AxisGIS provides users the ability to query\, browse\, report\, print\, and distribute their GIS data and related information simply using a web browser. As an add-in\, AxisGIS Editor is available to Staff Users who want the ability to perform advanced queries and edit GIS features and tables directly in the online service. \n2021 VALA Annual Conference Agenda \nVermont Assessors and Listers Association
URL:https://www.cai-tech.com/event/2021-vala-annual-conference/
END:VEVENT
END:VCALENDAR